BEGIN:VCALENDAR
VERSION:2.0
PRODID:-//eventon.com NONSGML v1.0//EN
CALSCALE:GREGORIAN
METHOD:PUBLISH
BEGIN:VEVENT
UID:69eb7a36754b5
DTSTAMP:20260424T141206Z
DTSTART:20260425T110000Z
DTEND:20260425T110000Z
LOCATION:Kystmuseet (Sæby Museum) Søndergade 1B\,  9300 Sæby
SUMMARY:Sæby Kirke og Kloster
DESCRIPTION:Sæby Kirke har siden 1400-tallet markeret sig som et af byens 
 mest betydningsfulde bygningsværker. Den gamle handelsplads fra vikingetid
 en havde i middelalderen udviklet sig til en egentlig by\,  som tilhørte b
 iskoppen. Det betød\,  at indtægterne fra handlen tilfaldt kirken – og 
 at Sæby var tæt knyttet til den kirkelige magtstruktur.[..]\nhttps://9300
 -saeby.dk/events/saeby-kirke-og-kloster/
URL:https://9300-saeby.dk/events/saeby-kirke-og-kloster/
END:VEVENT
END:VCALENDAR