BEGIN:VCALENDAR
VERSION:2.0
PRODID:-//eventon.com NONSGML v1.0//EN
CALSCALE:GREGORIAN
METHOD:PUBLISH
BEGIN:VEVENT
UID:69eb7aa38a242
DTSTAMP:20260424T141355Z
DTSTART:20260425T120000Z
DTEND:20260425T150000Z
LOCATION:Sæby Ro- &amp; Kajakklub Havnen 3
SUMMARY:Kayak Kursus
DESCRIPTION:NYT KAJAKHOLD 2026Skal det være dig\,  som kommer sejlende lan
 gs stranden i årSå se med her Vi starter nyt hold\,  som begynder under t
 rygge og rolige forhold i Sæby Svømmebad 1. gang 25. april og 2. gang 2. 
 maj kl 14- 17.Derefter øver vi ude i havnebassinet eller langs kysten.[..]
 \nhttps://9300-saeby.dk/events/kayak-kursus/
URL:https://9300-saeby.dk/events/kayak-kursus/
END:VEVENT
END:VCALENDAR