BEGIN:VCALENDAR
VERSION:2.0
PRODID:-//eventon.com NONSGML v1.0//EN
CALSCALE:GREGORIAN
METHOD:PUBLISH
BEGIN:VEVENT
UID:69eb797835195
DTSTAMP:20260424T140856Z
DTSTART:20260425T063000Z
DTEND:20260425T100000Z
LOCATION:SÃ¸vangsvej 13 9300 SÃ¦by SÃ¸vangsvej 13 9300 SÃ¦by
SUMMARY:OPFORDRINGSLÃ˜BET
DESCRIPTION:OPFORDRINGSLÃ˜BET ALLE OS DER IKKE LÃ˜BER I HAMBORG Dato: 25.04
 .2026 Start: 08.30 PÃ¥ opfordring afholder vi dette lÃ¸b for alle os\,  der
  ikke deltager i Hamborg. LÃ¸bet foregÃ¥r pÃ¥ en dejlig rundstrÃ¦kning i SÃ
 ¦by pÃ¥ 5\, 3 km\,  hvor start og mÃ¥l er ved LÃ¸b 4 Sagens adresse. LÃ¸bet
  er et[..]\nhttps://9300-saeby.dk/events/opfordringsloebet/
URL:https://9300-saeby.dk/events/opfordringsloebet/
END:VEVENT
END:VCALENDAR