BEGIN:VCALENDAR
VERSION:2.0
PRODID:-//eventon.com NONSGML v1.0//EN
CALSCALE:GREGORIAN
METHOD:PUBLISH
BEGIN:VEVENT
UID:69e7b682d883b
DTSTAMP:20260421T174018Z
DTSTART:20260805T130000Z
DTEND:20260805T160000Z
LOCATION:Sæby Torv Grønnegade 32\,  9300 Sæby
SUMMARY:Bo steffensen
DESCRIPTION:Musik på Torvet med Bo steffensen\nhttps://9300-saeby.dk/event
 s/bo-steffensen/
URL:https://9300-saeby.dk/events/bo-steffensen/
END:VEVENT
END:VCALENDAR