BEGIN:VCALENDAR
VERSION:2.0
PRODID:-//eventon.com NONSGML v1.0//EN
CALSCALE:GREGORIAN
METHOD:PUBLISH
BEGIN:VEVENT
UID:69e7b530870d2
DTSTAMP:20260421T173440Z
DTSTART:20260712T090000Z
DTEND:20260712T120000Z
LOCATION:Sæby Torv Grønnegade 32\,  9300 Sæby
SUMMARY:Ibsens Kapel
DESCRIPTION:Ibsens Kapel spiller sommermusik på Torvet i Sæby.\nhttps://9
 300-saeby.dk/events/ibsens-kapel-saeby-torvet/
URL:https://9300-saeby.dk/events/ibsens-kapel-saeby-torvet/
END:VEVENT
END:VCALENDAR