BEGIN:VCALENDAR
VERSION:2.0
PRODID:-//eventon.com NONSGML v1.0//EN
CALSCALE:GREGORIAN
METHOD:PUBLISH
BEGIN:VEVENT
UID:69e7b5f0f1c49
DTSTAMP:20260421T173752Z
DTSTART:20260702T130000Z
DTEND:20260702T160000Z
LOCATION:Sæby Torv Grønnegade 32\,  9300 Sæby
SUMMARY:Lune Toner
DESCRIPTION:Musik på Torvet med Lune Toner\nhttps://9300-saeby.dk/events/l
 une-toner/
URL:https://9300-saeby.dk/events/lune-toner/
END:VEVENT
END:VCALENDAR