BEGIN:VCALENDAR
VERSION:2.0
PRODID:-//eventon.com NONSGML v1.0//EN
CALSCALE:GREGORIAN
METHOD:PUBLISH
BEGIN:VEVENT
UID:69e8d5f8eaeb0
DTSTAMP:20260422T140648Z
DTSTART:20260429T173000Z
DTEND:20260429T215900Z
LOCATION:Mariehuset Strandgade 13\,  9300 Sæby
SUMMARY:Koncert med koret Banketten
DESCRIPTION:Banketten er et lokalt\,  flerstemmigt kor bestående af 14 san
 gere\,  som dirigeres af Birgitte Banke. Ved koncerten vil man kunne høre 
 et bredt udsnit af korets repertoire med forårssange. Banketten indleder a
 ltid forårskoncerter med korets slagsang ”Århus Tappenstreg” hvor tek
 sten begynder med ordene ” Nu ligger kirkenoderne og sover sødt[..]\nhtt
 ps://9300-saeby.dk/events/koncert-med-koret-banketten/
URL:https://9300-saeby.dk/events/koncert-med-koret-banketten/
END:VEVENT
END:VCALENDAR