BEGIN:VCALENDAR
VERSION:2.0
PRODID:-//eventon.com NONSGML v1.0//EN
CALSCALE:GREGORIAN
METHOD:PUBLISH
BEGIN:VEVENT
UID:69e586d31d897
DTSTAMP:20260420T015219Z
DTSTART:20260425T130000Z
DTEND:20260425T215900Z
LOCATION:Sæby Baptistkirke Sæbygårdvej 13\,  9300 Sæby
SUMMARY:STRAYLIGHT BAND
DESCRIPTION:STRAYLIGHT BANDThings have changedTag med på en rejse ind i Bo
 b Dylans univers lørdag den 25. april kl. 15.00 (dørene åbner kl. 14.30)
 BILLET KAN KØBES I DØREN &#8211; PRIS DKK 50DRIKKEVARER KAN KØBES FØR K
 ONCERTSTART\nhttps://9300-saeby.dk/events/straylight-band/
URL:https://9300-saeby.dk/events/straylight-band/
END:VEVENT
END:VCALENDAR