BEGIN:VCALENDAR
VERSION:2.0
PRODID:-//eventon.com NONSGML v1.0//EN
CALSCALE:GREGORIAN
METHOD:PUBLISH
BEGIN:VEVENT
UID:69e758191b06a
DTSTAMP:20260421T105729Z
DTSTART:20260410T120000Z
DTEND:20260410T160000Z
LOCATION:Cykelgården Sæby Søndergade 6A\,  Sæby
SUMMARY:Reception: Cykelgården Sæby
DESCRIPTION:Cykelgården Sæby har fået ny ejer\,  derfor vil jeg Mike Win
 ther Sørensen gerne invitere til en uformel reception. Kom og vær med til
  at fejre min overtagelse\,  der vil selvfølgelig være lidt til den lille
  sult og noget at slukke tørsten med.\nhttps://9300-saeby.dk/events/recept
 ion-cykelgaarden-saeby/
URL:https://9300-saeby.dk/events/reception-cykelgaarden-saeby/
END:VEVENT
END:VCALENDAR