BEGIN:VCALENDAR
VERSION:2.0
PRODID:-//eventon.com NONSGML v1.0//EN
CALSCALE:GREGORIAN
METHOD:PUBLISH
BEGIN:VEVENT
UID:69e4dbe7c57bf
DTSTAMP:20260419T134303Z
DTSTART:20260530T080000Z
DTEND:20260530T110000Z
LOCATION:Sæby Bibliotek Rådhusvej 1\,  Sæby
SUMMARY:Børnedag i Sæby
DESCRIPTION:Kom til en dag i børnenes tegn i Sæby. Her kan børnene have 
 sin egen stand på børneloppemarkedet i Manegen\,  lave krea på Sæby Bib
 liotek og købe en særlig børnedagsmenu i Sæby Svømmebad. Glæd jer til
  en hyggelig dag for hele familien. Har du og dine børn ting i gemmerne\, 
 [..]\nhttps://9300-saeby.dk/events/boernedag-i-saeby-2026/
URL:https://9300-saeby.dk/events/boernedag-i-saeby-2026/
END:VEVENT
END:VCALENDAR