BEGIN:VCALENDAR
VERSION:2.0
PRODID:-//eventon.com NONSGML v1.0//EN
CALSCALE:GREGORIAN
METHOD:PUBLISH
BEGIN:VEVENT
UID:69e8d6466c5d9
DTSTAMP:20260422T140806Z
DTSTART:20260427T170000Z
DTEND:20260427T190000Z
LOCATION:Sæby Bibliotek Rådhusvej 1\,  Sæby
SUMMARY:Anne Skov Thomsen
DESCRIPTION:&#8220;Præstens&#8221; &#8211; roman om en opvækst i præsteg
 årdens lys og skygger. Er vokset op som datter af to præster i Vendsyssel
 . I sin debutroman &#8220;Præstens&#8221; skildrer hun livet i en lille pr
 æstefamilie fra 1997 til 2001. Romanen undersøger præstegårdens særlig
 e rolle i landsbyen &#8211; et sted fuld af nærhed\,  forventninger[..]\nh
 ttps://9300-saeby.dk/events/anne-skov-thomsen/
URL:https://9300-saeby.dk/events/anne-skov-thomsen/
END:VEVENT
END:VCALENDAR