BEGIN:VCALENDAR
VERSION:2.0
PRODID:-//eventon.com NONSGML v1.0//EN
CALSCALE:GREGORIAN
METHOD:PUBLISH
BEGIN:VEVENT
UID:69e615ddd52c5
DTSTAMP:20260420T120237Z
DTSTART:20260404T090000Z
DTEND:20260404T103000Z
LOCATION:SÃ¦by Torv GrÃ¸nnegade 32\,  9300 SÃ¦by
SUMMARY:Bluey og Bingo kommer til SÃ¦by
DESCRIPTION:Sjov og leg med Bingo og Bluey pÃ¥ Torvet i SÃ¦by! Bluey er 6 Ã
 ¥r gammel\,  og bor sammen med sin lillesÃ¸ster Bingo og deres mor og far. 
 BÃ¥de Bluey og Bingo har en meget livlig fantasi\,  og begge piger er meget
  glade for at finde pÃ¥ deres egne spil[..]\nhttps://9300-saeby.dk/events/b
 luey-og-bingo-kommer-til-saeby/
URL:https://9300-saeby.dk/events/bluey-og-bingo-kommer-til-saeby/
END:VEVENT
END:VCALENDAR