BEGIN:VCALENDAR
VERSION:2.0
PRODID:-//eventon.com NONSGML v1.0//EN
CALSCALE:GREGORIAN
METHOD:PUBLISH
BEGIN:VEVENT
UID:69e4dc931fa5d
DTSTAMP:20260419T134555Z
DTSTART:20260514
DTEND:20260515
LOCATION:Sæby Torv Grønnegade 32\,  9300 Sæby
SUMMARY:Navigator Sæby 2026
DESCRIPTION:Navigator Sæby byder på ægte eventyr rundt i hele det fantas
 tiske område omkrig Sæby. Dette event er for løbere\,  orienteringsløbe
 re\,  ultraløbere\,  adventurefolket\,  spejdere &#8211; alle som elsker a
 t finde vej\,  få store naturoplevelser\,  motion og nyder en venskabelig 
 kappestrid. Eneste hjælpemidler er kort\,  kompas og smartphone &#8211; du
  gennemfører i[..]\nhttps://9300-saeby.dk/events/navigator-saeby-2026/
URL:https://9300-saeby.dk/events/navigator-saeby-2026/
END:VEVENT
END:VCALENDAR