BEGIN:VCALENDAR
VERSION:2.0
PRODID:-//eventon.com NONSGML v1.0//EN
CALSCALE:GREGORIAN
METHOD:PUBLISH
BEGIN:VEVENT
UID:69e4c8acb78e2
DTSTAMP:20260419T122100Z
DTSTART:20260502T110000Z
DTEND:20260502T215900Z
LOCATION:Sæby Spektrum Sæbygårdvej 32\,  9300 Sæby
SUMMARY:Sæby Bierfest 2026
DESCRIPTION:Kom og oplev den fantastiske stemning som en ægte Oktoberfest.
  Bierfest i Sæby d. 2. maj 2026. 6 mands stort orkester TOP SEVEN kommer i
 gen til Sæby Spektrum på deres Bierfest Turne 2026. 7 timers non stop Mus
 ik &#8211; Underholdning &#8211; Show. Hallen vil være pyntet i bedste Okt
 oberfest stil\, [..]\nhttps://9300-saeby.dk/events/saeby-bierfest-2026/
URL:https://9300-saeby.dk/events/saeby-bierfest-2026/
END:VEVENT
END:VCALENDAR