BEGIN:VCALENDAR
VERSION:2.0
PRODID:-//eventon.com NONSGML v1.0//EN
CALSCALE:GREGORIAN
METHOD:PUBLISH
BEGIN:VEVENT
UID:69e6172197c20
DTSTAMP:20260420T120801Z
DTSTART:20260424T163000Z
DTEND:20260424T180000Z
LOCATION:Manegen - Sæby Kulturhus Rådhuspladsen 2\,  9300 Sæby
SUMMARY:Pernille Højmark: Først nu forstår jeg ingenting
DESCRIPTION:FØRST NU FORSTÅR JEG INTET der er Pernille Højmarks stærke\
 ,  ærlige og musikalske one-woman &#8211; forestilling om modgang\,  kampe
  og skelsættende livsøjeblikke. Med sin velkendte humor\,  sin skarpe tun
 ge og en sårbarhed\,  de færreste kender hende for\,  tager Pernille Høj
 mark publikum med på en tur igennem modgang og successer. Fra[..]\nhttps:/
 /9300-saeby.dk/events/pernille-hoejmark-foerst-nu-forstaar-jeg-ingenting/
URL:https://9300-saeby.dk/events/pernille-hoejmark-foerst-nu-forstaar-jeg-ingenting/
END:VEVENT
END:VCALENDAR