BEGIN:VCALENDAR
VERSION:2.0
PRODID:-//eventon.com NONSGML v1.0//EN
CALSCALE:GREGORIAN
METHOD:PUBLISH
BEGIN:VEVENT
UID:69e7695116630
DTSTAMP:20260421T121057Z
DTSTART:20190713T080000Z
DTEND:20190713T150000Z
LOCATION:Voergaard Slot Voergård 6\,  9330 Dronninglund
SUMMARY:Middelalderdage på Voergaard Slot
DESCRIPTION:Middelalderdagene på Voergaard arrangeres hvert år af forenin
 gen Voergaard Levende Historie. Der kommer hvert år ca. 30.000 mennesker p
 å besøg i Middelalderen. Det er et godt sted for børnefamilier\,  der ge
 rne kommer 3 til 4 generationer sammen – ja\,  mange har det ligefrem som
  en fast tradition! Tag hele familien[..]\nhttps://9300-saeby.dk/events/mid
 delalderdage-paa-voergaard-slot/
URL:https://9300-saeby.dk/events/middelalderdage-paa-voergaard-slot/
END:VEVENT
END:VCALENDAR