BEGIN:VCALENDAR
VERSION:2.0
PRODID:-//eventon.com NONSGML v1.0//EN
CALSCALE:GREGORIAN
METHOD:PUBLISH
BEGIN:VEVENT
UID:69e5fc6ce9d8c
DTSTAMP:20260420T101404Z
DTSTART:20250318T180000Z
DTEND:20250318T203000Z
LOCATION:Manegen - Sæby Kulturhus Rådhuspladsen 2\,  9300 Sæby
SUMMARY:Mød Paramediciner
DESCRIPTION:Mød Paramediciner Thomas Sølvkær med foredraget ”Hvad sker
  der\,  når vi ringer 112”. Thomas vil fortælle om sit daglige\,  og fo
 r mange af os ukendte\,  arbejde. Der er lagt op til en spændende foredrag
 saften i Manegen\,  hvor Thomas Sølvkær blandt andet vil fortælle os om 
 de muligheder der er\,  når[..]\nhttps://9300-saeby.dk/events/moed-paramed
 iciner/
URL:https://9300-saeby.dk/events/moed-paramediciner/
END:VEVENT
END:VCALENDAR