BEGIN:VCALENDAR
VERSION:2.0
PRODID:-//eventon.com NONSGML v1.0//EN
CALSCALE:GREGORIAN
METHOD:PUBLISH
BEGIN:VEVENT
UID:69e60221d75f3
DTSTAMP:20260420T103825Z
DTSTART:20250227T180000Z
DTEND:20250227T225900Z
LOCATION:Café Sol - Sæby Spektrum Sæbygårdvej 32\,  Frederikshavn\,  Denmark
SUMMARY:Generalforsamling med foredrag ved diætist Lone Rosenkilde
DESCRIPTION:Hjerteforeningen Sæby afholder et spændende foredrag med Lone
  Rosenkilde\,  Aut. Klinisk diætist\,  Aalborg. Lone Rosenkilde vil fortæ
 lle\,  hvordan du kan spise\,  når kolesteroltallet er højt. Du får små
  tips til\,  hvordan du nemt og enkelt får omsat kostprincipperne til din 
 hverdag. Under foredraget kommer vi bl.a. omkring de forskellige typer[..]\
 nhttps://9300-saeby.dk/events/generalforsamling-med-foredrag-ved-diaetist-l
 one-rosenkilde/
URL:https://9300-saeby.dk/events/generalforsamling-med-foredrag-ved-diaetist-lone-rosenkilde/
END:VEVENT
END:VCALENDAR