BEGIN:VCALENDAR
VERSION:2.0
PRODID:-//eventon.com NONSGML v1.0//EN
CALSCALE:GREGORIAN
METHOD:PUBLISH
BEGIN:VEVENT
UID:69e4c9026acdb
DTSTAMP:20260419T122226Z
DTSTART:20260502T063000Z
DTEND:20260502T215900Z
LOCATION:Nellemanns Have Langtvedvej 25\,  9300 Sæby
SUMMARY:Sæby Bjergmarathon
DESCRIPTION:Velkommen til Sæby Bjergmarathon 2026 Kavalkader af flotte uds
 igter god plads til Runners &amp; Walkers&#8230;. Løbet som tilbyder dista
 ncer og udfordringer som individuelt passer enhver. Der er medaljer man bar
 e lige snupper og der er dem man må slide lidt for&#8230;..her vil i oplev
 e en storslået rute som giver både[..]\nhttps://9300-saeby.dk/events/saeb
 y-bjergmarathon/
URL:https://9300-saeby.dk/events/saeby-bjergmarathon/
END:VEVENT
END:VCALENDAR