BEGIN:VCALENDAR
VERSION:2.0
PRODID:-//eventon.com NONSGML v1.0//EN
CALSCALE:GREGORIAN
METHOD:PUBLISH
BEGIN:VEVENT
UID:69e5fc1325c5f
DTSTAMP:20260420T101235Z
DTSTART:20251129T100000Z
DTEND:20251129T120000Z
LOCATION:Sæby Torv Grønnegade 32\,  9300 Sæby
SUMMARY:Julemanden og nisserne er i huset
DESCRIPTION:Julemanden og nisserne er i huset &nbsp;\nhttps://9300-saeby.dk
 /events/julemanden-nisserne/
URL:https://9300-saeby.dk/events/julemanden-nisserne/
END:VEVENT
END:VCALENDAR