BEGIN:VCALENDAR
VERSION:2.0
PRODID:-//eventon.com NONSGML v1.0//EN
CALSCALE:GREGORIAN
METHOD:PUBLISH
BEGIN:VEVENT
UID:69ecc9a202d53
DTSTAMP:20260425T140314Z
DTSTART:20260426T100000Z
DTEND:20260426T130000Z
LOCATION:Sæby Spektrum Sæbygårdvej 32\,  9300 Sæby
SUMMARY:Søndagssjov
DESCRIPTION:Kom og giv den gas i den store springhal som vi ombygger til et
  stort motorik- og legeland. Der er stortrampoliner med grave (store bløde
  madrasser)\,  luftbaner (airtrack)\,  25 meter lang trampolin (fasttrack)\
 ,  forhindringsbane og en masse redskaber til spring\,  leg og sjov. Børn 
 i alderen fra 1 – 13[..]\nhttps://9300-saeby.dk/events/soendagssjov/
URL:https://9300-saeby.dk/events/soendagssjov/
END:VEVENT
END:VCALENDAR