BEGIN:VCALENDAR
VERSION:2.0
PRODID:-//eventon.com NONSGML v1.0//EN
CALSCALE:GREGORIAN
METHOD:PUBLISH
BEGIN:VEVENT
UID:69e5fbf5c431d
DTSTAMP:20260420T101205Z
DTSTART:20240811T080000Z
DTEND:20240811T093000Z
LOCATION:Frikirken i Sæby Sæbygaardvej 15\,  9300 Sæby
SUMMARY:Gudstjeneste og Børnekirke
DESCRIPTION:Velkommen til Gudstjeneste\,  hvor Niels Villadsen prædiker. D
 er vil samtidig være Børnekirke. Alle er hjertelig velkomne\nhttps://9300
 -saeby.dk/events/gudstjeneste-og-boernekirke/
URL:https://9300-saeby.dk/events/gudstjeneste-og-boernekirke/
END:VEVENT
END:VCALENDAR