BEGIN:VCALENDAR
VERSION:2.0
PRODID:-//eventon.com NONSGML v1.0//EN
CALSCALE:GREGORIAN
METHOD:PUBLISH
BEGIN:VEVENT
UID:69e5fcad094db
DTSTAMP:20260420T101509Z
DTSTART:20240810T080000Z
DTEND:20240810T150000Z
LOCATION:Retfærdigheden Algade 14\,  Sæby
SUMMARY:Kunstudstilling i Algade
DESCRIPTION:9 Sæbykunstnere udstiller egne værker i Algade og i Retfærdi
 gheden\,  Algade\,  Sæby:  Maleri\,  Fotokunst\,  glaskunst\,  porcelæn\
 ,  vævning\,  Art café og natursnedkeri.\nhttps://9300-saeby.dk/events/ku
 nstudstilling-i-algade/
URL:https://9300-saeby.dk/events/kunstudstilling-i-algade/
END:VEVENT
END:VCALENDAR