BEGIN:VCALENDAR
VERSION:2.0
PRODID:-//eventon.com NONSGML v1.0//EN
CALSCALE:GREGORIAN
METHOD:PUBLISH
BEGIN:VEVENT
UID:69e5fe718afb8
DTSTAMP:20260420T102241Z
DTSTART:20240811T090000Z
DTEND:20240811T215900Z
LOCATION:Havnekontoret Havnen 11
SUMMARY:Opvisning v/ Sæby Folkedanserforening
DESCRIPTION:Sæby Folkedanserforening giver en opvisning i dansk folkedans.
  Danserne vil bære flotte dragter. Opvisningen foregår ved Havnekontoret 
 på Sæby Havn. Om Sæby Folkedanserforening: Foreningens formål er bevare
 lse og udbredelse af de gamle folkedanse ved indøvelse af disse efter korr
 ekte beskrivelser og under kyndig vejledning. &nbsp; Ved Havnekontoret\,  H
 avnen 11\,  9300[..]\nhttps://9300-saeby.dk/events/opvisning-v-saeby-folked
 anserforening/
URL:https://9300-saeby.dk/events/opvisning-v-saeby-folkedanserforening/
END:VEVENT
END:VCALENDAR