BEGIN:VCALENDAR
VERSION:2.0
PRODID:-//eventon.com NONSGML v1.0//EN
CALSCALE:GREGORIAN
METHOD:PUBLISH
BEGIN:VEVENT
UID:69e610c516f5e
DTSTAMP:20260420T114053Z
DTSTART:20240810T083000Z
DTEND:20240810T215900Z
LOCATION:SÃ¦by Torv GrÃ¸nnegade 32\,  9300 SÃ¦by
SUMMARY:JubilÃ¦umsfejring pÃ¥ SÃ¦by Torv
DESCRIPTION:SÃ¦by&#8217;s 500-Ã¥rs KÃ¸bstadsjubilÃ¦um fejres i stor stil\, 
  nÃ¥r et vÃ¦ld af underholdning og aktiviteter lÃ¸ber af stablen pÃ¥ SÃ¦by 
 Torv. Hele dagen er der tivoli med karussel for bÃ¸rnene. Program: Kl. 10.3
 0 &#8211; 11.00Â  Musik pÃ¥ torvet med FLOW Kl. 11.00 Festlige optog fra SÃ
 ¦by Torv til SÃ¦by Kirke med[..]\nhttps://9300-saeby.dk/events/jubilaeumsfe
 jring-paa-saeby-torv/
URL:https://9300-saeby.dk/events/jubilaeumsfejring-paa-saeby-torv/
END:VEVENT
END:VCALENDAR