BEGIN:VCALENDAR
VERSION:2.0
PRODID:-//eventon.com NONSGML v1.0//EN
CALSCALE:GREGORIAN
METHOD:PUBLISH
BEGIN:VEVENT
UID:69e4cf35b2e3f
DTSTAMP:20260419T124853Z
DTSTART:20240614T080000Z
DTEND:20240614T150000Z
LOCATION:Galleri judithsmalerier. Atelier og galleri. Kildevej 8 9300 Sæby
SUMMARY:Galleri Judiths malerier
DESCRIPTION:Kig forbi Judiths galleri.  Det er gratis at besøge og holder
  åbent fra 14. juni til 9. september 2024 kl. 10.00-17.00 Om Judiths maler
 ier Judith maler på hobbybasis\,  primært motiver fra Sæby\,  strand\,  
 himmel og husene. Men også blomsterbilleder og lidt abstrakt. Endvidere ma
 ler hun fra tid til anden på[..]\nhttps://9300-saeby.dk/events/galleri-jud
 ithsmalerier/
URL:https://9300-saeby.dk/events/galleri-judithsmalerier/
END:VEVENT
END:VCALENDAR