BEGIN:VCALENDAR
VERSION:2.0
PRODID:-//eventon.com NONSGML v1.0//EN
CALSCALE:GREGORIAN
METHOD:PUBLISH
BEGIN:VEVENT
UID:69e7b683d4f0e
DTSTAMP:20260421T174019Z
DTSTART:20260708T130000Z
DTEND:20260708T160000Z
LOCATION:Sæby Torv Grønnegade 32\,  9300 Sæby
SUMMARY:The Good Company
DESCRIPTION:The Good Company spiller sommermusik på Torvet i Sæby.\nhttps
 ://9300-saeby.dk/events/the-good-company/
URL:https://9300-saeby.dk/events/the-good-company/
END:VEVENT
END:VCALENDAR