BEGIN:VCALENDAR
VERSION:2.0
PRODID:-//eventon.com NONSGML v1.0//EN
CALSCALE:GREGORIAN
METHOD:PUBLISH
BEGIN:VEVENT
UID:69e7b510c51a8
DTSTAMP:20260421T173408Z
DTSTART:20260808T090000Z
DTEND:20260808T120000Z
LOCATION:Sæby Torv Grønnegade 32\,  9300 Sæby
SUMMARY:Ole Lindskov
DESCRIPTION:Ole Lindskov spiller sommermusik på Torvet i Sæby. Fyldt med 
 god traditionel countrymusik tilsat fortællinger og anekdoter fra et langt
  musiker liv. &nbsp; Læs mere om Ole Lindskov\nhttps://9300-saeby.dk/event
 s/ole-lindskov/
URL:https://9300-saeby.dk/events/ole-lindskov/
END:VEVENT
END:VCALENDAR