BEGIN:VCALENDAR
VERSION:2.0
PRODID:-//eventon.com NONSGML v1.0//EN
CALSCALE:GREGORIAN
METHOD:PUBLISH
BEGIN:VEVENT
UID:69e7412d150f7
DTSTAMP:20260421T091941Z
DTSTART:20260403T150000Z
DTEND:20260403T180000Z
LOCATION:Lanternen - Sæby Vestergade 33
SUMMARY:Ronni Strøm & CountryCa$h
DESCRIPTION:Ronni Strøm &amp; CountryCa$h underholder i Lanternens Gård.\
 nhttps://9300-saeby.dk/events/ronni-stroem-countrycah-lanternen/
URL:https://9300-saeby.dk/events/ronni-stroem-countrycah-lanternen/
END:VEVENT
END:VCALENDAR