BEGIN:VCALENDAR
VERSION:2.0
PRODID:-//eventon.com NONSGML v1.0//EN
CALSCALE:GREGORIAN
METHOD:PUBLISH
BEGIN:VEVENT
UID:69e6324b6b495
DTSTAMP:20260420T140355Z
DTSTART:20240706T063000Z
DTEND:20240706T091500Z
LOCATION:Sæby Havn
SUMMARY:HAVN 2 HAVN Running Tour
DESCRIPTION:Sæby Østkystens perle&#8230;.har Kattegat som en dejlig nabo\
 ,  en nabo som giver dette løb dimensioner. Løbet har start og mål på h
 avnen i Sæby\,  nærmere betegnet på Sæby Kajakklub&#8217;s forplads. Ku
 n få meter herfra er der en fantastisk badestrand. Så her er der rig muli
 ghed at få en dukkert efter løbet\, [..]\nhttps://9300-saeby.dk/events/h
 avn-2-havn-running-tour/
URL:https://9300-saeby.dk/events/havn-2-havn-running-tour/
END:VEVENT
END:VCALENDAR