BEGIN:VCALENDAR
VERSION:2.0
PRODID:-//eventon.com NONSGML v1.0//EN
CALSCALE:GREGORIAN
METHOD:PUBLISH
BEGIN:VEVENT
UID:69e5fc8937309
DTSTAMP:20260420T101433Z
DTSTART:20240404T120000Z
DTEND:20240404T140000Z
LOCATION:Musikhuset Skolegade 6\,  9300 Sæby
SUMMARY:En festlig musikalsk afslutning på forårsprogrammet v/ Lonni og Bent
DESCRIPTION:En festlig musikalsk afslutning på forårsprogrammet v/ Lonni 
 og Bent. &nbsp; Entré: 35 kr for kaffe og kage\nhttps://9300-saeby.dk/even
 ts/en-festlig-musikalsk-afslutning-paa-foraarsprogrammet-v-lonni-og-bent/
URL:https://9300-saeby.dk/events/en-festlig-musikalsk-afslutning-paa-foraarsprogrammet-v-lonni-og-bent/
END:VEVENT
END:VCALENDAR