BEGIN:VCALENDAR
VERSION:2.0
PRODID:-//eventon.com NONSGML v1.0//EN
CALSCALE:GREGORIAN
METHOD:PUBLISH
BEGIN:VEVENT
UID:69e601ce3da0f
DTSTAMP:20260420T103702Z
DTSTART:20240326T153000Z
DTEND:20240326T200000Z
LOCATION:
SUMMARY:Fuldmåne badning
DESCRIPTION:Tirsdag den 26.3.24 &#8211; vi når lige en fuldmåne badning m
 ere inden sæsonen er slut for denne gang. Sauna er åben fra 16.30 til 21.
 00 Suppe serveres fra kl. 19.15 &#8211; 20.15 Pris for suppe og et glas sod
 avand\,  øl eller vin\,  25 kr. Tilmelding ved betaling 25 kr. på[..]\nht
 tps://9300-saeby.dk/events/fuldmaane-badning/
URL:https://9300-saeby.dk/events/fuldmaane-badning/
END:VEVENT
END:VCALENDAR