BEGIN:VCALENDAR
VERSION:2.0
PRODID:-//eventon.com NONSGML v1.0//EN
CALSCALE:GREGORIAN
METHOD:PUBLISH
BEGIN:VEVENT
UID:69e5f9356f457
DTSTAMP:20260420T100021Z
DTSTART:20250623T160000Z
DTEND:20250623T193000Z
LOCATION:Paradisjorden Havnen 3
SUMMARY:Sankt Hans Aften
DESCRIPTION:Den traditionsrige fejring af Sankthans på Sæby Havn afholdes
  igen i år med Lions Club Sæby som arrangør. Klubben inviterer alle velk
 ommen mandag den 23. juni 2025 fra kl. 18.30\,  hvor pladsen åbner\,  og p
 rogrammet indeholder som tidligere år anderæs på åen\,  musikalsk under
 holdning\,  båltale og bål på stranden. Andevæddeløb[..]\nhttps://9300
 -saeby.dk/events/sankt-hans-aften/
URL:https://9300-saeby.dk/events/sankt-hans-aften/
END:VEVENT
END:VCALENDAR