BEGIN:VCALENDAR
VERSION:2.0
PRODID:-//eventon.com NONSGML v1.0//EN
CALSCALE:GREGORIAN
METHOD:PUBLISH
BEGIN:VEVENT
UID:69e5fcdf4f6eb
DTSTAMP:20260420T101559Z
DTSTART:20231122T120000Z
DTEND:20231122T143000Z
LOCATION:SÃ¦by KirkegÃ¥rd Frederikshavnsvej 2
SUMMARY:Kursus i dekorationsvÃ¦rkstedet
DESCRIPTION:Har du lyst til at blive inspireret til at lave flotte dekorati
 oner og samtidig tilbringe nogle timer i hyggeligt selskab? SÃ¥ tilbyder SÃ
 ¦by Kirke en eftermiddag med teknikker og metoder til flotte dekorationer â
 €“ lavet af gran\,  blomster og naturens egne materialer. Du er velkommen t
 il at medbringe nogle af[..]\nhttps://9300-saeby.dk/events/kursus-i-dekorat
 ionsvaerkstedet/
URL:https://9300-saeby.dk/events/kursus-i-dekorationsvaerkstedet/
END:VEVENT
END:VCALENDAR