BEGIN:VCALENDAR
VERSION:2.0
PRODID:-//eventon.com NONSGML v1.0//EN
CALSCALE:GREGORIAN
METHOD:PUBLISH
BEGIN:VEVENT
UID:69e614c87b079
DTSTAMP:20260420T115800Z
DTSTART:20231214T180000Z
DTEND:20231214T225000Z
LOCATION:Manegen - Sæby Kulturhus Rådhuspladsen 2\,  9300 Sæby
SUMMARY:Twice Colonized
DESCRIPTION:Om filmen Twice Colonized/2023/dokumentar Filmen fortæller his
 torien om den grønlandske menneskeretsaktivist Aaju Peter\,  som har dedik
 eret sit liv til kampen for inuit i hele Arktis. Da en tragedie rammer blan
 dt Aajus nærmeste\,  begiver hun sig ud på en personlig rejse for at konf
 rontere sin fortid og samtidig sikre oprindelige folks[..]\nhttps://9300-sa
 eby.dk/events/twice-colonized/
URL:https://9300-saeby.dk/events/twice-colonized/
END:VEVENT
END:VCALENDAR