BEGIN:VCALENDAR
VERSION:2.0
PRODID:-//eventon.com NONSGML v1.0//EN
CALSCALE:GREGORIAN
METHOD:PUBLISH
BEGIN:VEVENT
UID:69e5fc28e1ca6
DTSTAMP:20260420T101256Z
DTSTART:20231024T170000Z
DTEND:20231024T190000Z
LOCATION:Retfærdigheden Algade 14\,  Sæby
SUMMARY:Hvordan fungerer hjernen?
DESCRIPTION:Livestream (ses sammen i Retfærdigheden): Vores hjerne består
  af 100 mia. celler som kommunikerer med hinanden i komplicerede netværk. 
 Men hvordan styrer hjernen os? Leif Østergaard\,  professor ved Institut f
 or Klinisk Medicin\,  Aarhus Universitet\,  og overlæge ved Neuroradiologi
 sk Afsnit\,  Aarhus Universitetshospital. Mødetid: senest 18:45\nhttps://9
 300-saeby.dk/events/hvordan-fungerer-hjernen/
URL:https://9300-saeby.dk/events/hvordan-fungerer-hjernen/
END:VEVENT
END:VCALENDAR