BEGIN:VCALENDAR
VERSION:2.0
PRODID:-//eventon.com NONSGML v1.0//EN
CALSCALE:GREGORIAN
METHOD:PUBLISH
BEGIN:VEVENT
UID:69e5fc89354d9
DTSTAMP:20260420T101433Z
DTSTART:20240620T153000Z
DTEND:20240620T210000Z
LOCATION:Hotel Aahøj Hans Aabelsvej 1\,  9300 Sæby
SUMMARY:Winefight & Gourmet
DESCRIPTION:De to duellanter\,  Henrik Tachau Kristensen fra CC Wines og Da
 vid Andreasen fra Vinslottet\,  tager kampen op mod hinanden igen. Denne ga
 ng i en Winefight-revanche med temaet “Årets bedste sommervine 2024”. 
 Vi nyder som altid en lækker 5-retters menu\,  tilberedt af Essens Gaarden
 . De to vinproducenter får udleveret menuen på[..]\nhttps://9300-saeby.dk
 /events/winefight-gourmet/
URL:https://9300-saeby.dk/events/winefight-gourmet/
END:VEVENT
END:VCALENDAR