BEGIN:VCALENDAR
VERSION:2.0
PRODID:-//eventon.com NONSGML v1.0//EN
CALSCALE:GREGORIAN
METHOD:PUBLISH
BEGIN:VEVENT
UID:69e5fcca5c9d0
DTSTAMP:20260420T101538Z
DTSTART:20230620T120000Z
DTEND:20230620T215000Z
LOCATION:Manegen - Sæby Kulturhus Rådhuspladsen 2\,  9300 Sæby
SUMMARY:Biltur i fortidens fodspor
DESCRIPTION:I egne biler kører vi til spændende steder i samarbejde med f
 oreningen Saltlandet Tilmelding til Holger Almholt på mobil 30703242\,  el
 ler mail almholtholger@gmail.com. &nbsp; I egne biler vil vi køre en tur i
  området syd for Sæby\,  og ser spændende historiske steder og mindesten
  for folk der har gjordt noget[..]\nhttps://9300-saeby.dk/events/biltur-i-f
 ortidens-fodspor/
URL:https://9300-saeby.dk/events/biltur-i-fortidens-fodspor/
END:VEVENT
END:VCALENDAR