BEGIN:VCALENDAR
VERSION:2.0
PRODID:-//eventon.com NONSGML v1.0//EN
CALSCALE:GREGORIAN
METHOD:PUBLISH
BEGIN:VEVENT
UID:69e4ca1be08b2
DTSTAMP:20260419T122707Z
DTSTART:20260620T073000Z
DTEND:20260620T103000Z
LOCATION:Sæby Torv Grønnegade 32\,  9300 Sæby
SUMMARY:Klovneløb 2026
DESCRIPTION:Klovneløbet er et familieløb\,  hvor alle der kan kravle\,  g
 å\,  rulle eller løbe\,  kan være med. Det handler ikke om at være hurt
 igst — det handler om at få en hyggelig og sjov dag\,  og samtidig støt
 te et godt formål. Når du deltager i Klovneløb\,  støtter du nemlig Dan
 ske Hospitalsklovnes[..]\nhttps://9300-saeby.dk/events/klovneloeb-saeby/
URL:https://9300-saeby.dk/events/klovneloeb-saeby/
END:VEVENT
END:VCALENDAR