BEGIN:VCALENDAR
VERSION:2.0
PRODID:-//eventon.com NONSGML v1.0//EN
CALSCALE:GREGORIAN
METHOD:PUBLISH
BEGIN:VEVENT
UID:69e5fc778d01e
DTSTAMP:20260420T101415Z
DTSTART:20230727T180000Z
DTEND:20230727T200000Z
LOCATION:Lanternen - Sæby Vestergade 33
SUMMARY:Advokatens New Orleans Jazzband
DESCRIPTION:Advokatens New Orleans Jazzband underholder i Lanternens Gård.
 \nhttps://9300-saeby.dk/events/advokatens-new-orleans-jazzband-27-7-23/
URL:https://9300-saeby.dk/events/advokatens-new-orleans-jazzband-27-7-23/
END:VEVENT
END:VCALENDAR