BEGIN:VCALENDAR
VERSION:2.0
PRODID:-//eventon.com NONSGML v1.0//EN
CALSCALE:GREGORIAN
METHOD:PUBLISH
BEGIN:VEVENT
UID:69e615ab0d21f
DTSTAMP:20260420T120147Z
DTSTART:20230527T120000Z
DTEND:20230527T140000Z
LOCATION:Retfærdigheden Algade 14\,  Sæby
SUMMARY:Sæby Jazz Festival: Paulsens Jazzkvartet
DESCRIPTION:Peter Lund Paulsen har samlet et mesterligt hold af musikere\, 
  som vil forføre publikum med tonerne af lækker swing- og jazzmusik\,  pa
 kket ind i finurlige arrangementer. Repertoiret er nøje udvalgt\,  med afs
 æt i de gode og genkendelige melodier. Inspirationen trækker de fra kunst
 nere som Clifford Brown\,  Max Roach\,  Clarke Terry\, [..]\nhttps://9300-s
 aeby.dk/events/saeby-jazz-festival-2023/
URL:https://9300-saeby.dk/events/saeby-jazz-festival-2023/
END:VEVENT
END:VCALENDAR