BEGIN:VCALENDAR
VERSION:2.0
PRODID:-//eventon.com NONSGML v1.0//EN
CALSCALE:GREGORIAN
METHOD:PUBLISH
BEGIN:VEVENT
UID:69e600e1cba53
DTSTAMP:20260420T103305Z
DTSTART:20190728T093000Z
DTEND:20190728T123000Z
LOCATION:Sæby Torv Grønnegade 32\,  9300 Sæby
SUMMARY:Mads Toghøj
DESCRIPTION:Mads Toghøj\nhttps://9300-saeby.dk/events/mads-toghoej-28-juli
 /
URL:https://9300-saeby.dk/events/mads-toghoej-28-juli/
END:VEVENT
END:VCALENDAR