BEGIN:VCALENDAR
VERSION:2.0
PRODID:-//eventon.com NONSGML v1.0//EN
CALSCALE:GREGORIAN
METHOD:PUBLISH
BEGIN:VEVENT
UID:69e6109674800
DTSTAMP:20260420T114006Z
DTSTART:20230404T080000Z
DTEND:20230407T140000Z
LOCATION:Kystmuseet (Sæby Museum) Søndergade 1B\,  9300 Sæby
SUMMARY:Find Påskeharen
DESCRIPTION:Hjælp Påskeharen\,  der er kommet galt afsted og hverken kan 
 huske\,  hvad påsken går ud på eller\,  hvad hans opgave er i påsken. &
 nbsp; Kan du svare på spørgsmålene og hjælpe ham med at stykke det hele
  sammen\,  så vi kan få styr på påsken? Hvis du klarer opgaven er[..]\n
 https://9300-saeby.dk/events/find-paaskeharen/
URL:https://9300-saeby.dk/events/find-paaskeharen/
END:VEVENT
END:VCALENDAR