BEGIN:VCALENDAR
VERSION:2.0
PRODID:-//eventon.com NONSGML v1.0//EN
CALSCALE:GREGORIAN
METHOD:PUBLISH
BEGIN:VEVENT
UID:69e60d360c234
DTSTAMP:20260420T112542Z
DTSTART:20230427T170000Z
DTEND:20230427T215000Z
LOCATION:Sæby Bibliotek Rådhusvej 1\,  Sæby
SUMMARY:Smykkeaften
DESCRIPTION:Tag veninderne med til en hyggelig aften\,  hvor I sammen kan l
 ave smukke smykker. Vi har fundet de fineste perler frem og sørger for god
  stemning\,  mens I kan hygge jer med at kreere smykker. I kan lave armbån
 d\,  ørestikker\,  creoler eller halskæder\,  kun fantasien sætter græn
 ser. Fra 14 år.[..]\nhttps://9300-saeby.dk/events/smykkeaften-270423/
URL:https://9300-saeby.dk/events/smykkeaften-270423/
END:VEVENT
END:VCALENDAR