BEGIN:VCALENDAR
VERSION:2.0
PRODID:-//eventon.com NONSGML v1.0//EN
CALSCALE:GREGORIAN
METHOD:PUBLISH
BEGIN:VEVENT
UID:69e6020277c99
DTSTAMP:20260420T103754Z
DTSTART:20220719T073000Z
DTEND:20220719T215000Z
LOCATION:P-pladsen ved trafikcenter SÃ¦by Syd Trafikcenter SÃ¦by Syd 3
SUMMARY:Naturtur i egen bil
DESCRIPTION:Oplev naturen fra egen bil. Vi vil i kÃ¸re rundt til spektakulÃ
 ¦re steder pÃ¥ egnen\,  og undervejs hÃ¸re om naturen\,  fuglelivet\,  land
 skabet og meget mere\,  fortalt af Bo Storm der er guide pÃ¥ turen. Oplev n
 aturen fra egen bil. Vi vil i kÃ¸re rundt til spektakulÃ¦re steder pÃ¥ egne
 n\,  og[..]\nhttps://9300-saeby.dk/events/naturtur-i-egen-bil-190722/
URL:https://9300-saeby.dk/events/naturtur-i-egen-bil-190722/
END:VEVENT
END:VCALENDAR