BEGIN:VCALENDAR
VERSION:2.0
PRODID:-//eventon.com NONSGML v1.0//EN
CALSCALE:GREGORIAN
METHOD:PUBLISH
BEGIN:VEVENT
UID:69ea42f89998a
DTSTAMP:20260423T160408Z
DTSTART:20200905T080000Z
DTEND:20200905T110000Z
LOCATION:Sæby Torv Grønnegade 32\,  9300 Sæby
SUMMARY:Loppemarked
DESCRIPTION:Privatpersoner kan stille op med egen bod på Sæby Torv. Det e
 r gratis at få en bod\,  men tilmelding er nødvendig på lknielsen1972@gm
 ail.com Begrænset antal &#8211; besættes efter &#8220;først til mølle&#
 8221; princippet.\nhttps://9300-saeby.dk/events/loppemarked-0920/
URL:https://9300-saeby.dk/events/loppemarked-0920/
END:VEVENT
END:VCALENDAR