BEGIN:VCALENDAR
VERSION:2.0
PRODID:-//eventon.com NONSGML v1.0//EN
CALSCALE:GREGORIAN
METHOD:PUBLISH
BEGIN:VEVENT
UID:69e746388fe31
DTSTAMP:20260421T094112Z
DTSTART:20200816T113000Z
DTEND:20200816T143000Z
LOCATION:Skovlyst Kildevej 51\,  9300 Sæby
SUMMARY:Ibsens Kapel på Skovlyst
DESCRIPTION:Kom til årets finale af Sommer på Skovlyst. Denne søndag eft
 ermiddag er der musik med Ibsens Kapel. Der kan købes is\,  kage\,  kaffe\
 ,  øl\,  vand\,  vin mv. i baren.\nhttps://9300-saeby.dk/events/ibsens-kap
 el-160820/
URL:https://9300-saeby.dk/events/ibsens-kapel-160820/
END:VEVENT
END:VCALENDAR