BEGIN:VCALENDAR
VERSION:2.0
PRODID:-//eventon.com NONSGML v1.0//EN
CALSCALE:GREGORIAN
METHOD:PUBLISH
BEGIN:VEVENT
UID:69e601c4a4ca2
DTSTAMP:20260420T103652Z
DTSTART:20191024T170000Z
DTEND:20191024T215000Z
LOCATION:Manegen - Sæby Kulturhus Rådhuspladsen 2\,  9300 Sæby
SUMMARY:Foredrag: Glansbilledet\,  der blev krøllet
DESCRIPTION:Et hudløst ærligt foredrag\,  hvor Stephanie Star fortæller 
 om sin forvandling fra plastikdronning til en smuk kvinde i sin bedste alde
 r. Den nu 52 årige Stephanie Star er kendt for sit image skabt af botox\, 
  filler\,  kunstige negle og isblonde hair extension. Nu har Stephanie Star
  imidlertid fået nok af[..]\nhttps://9300-saeby.dk/events/foredrag-glansbi
 lledet-der-blev-kroellet/
URL:https://9300-saeby.dk/events/foredrag-glansbilledet-der-blev-kroellet/
END:VEVENT
END:VCALENDAR