BEGIN:VCALENDAR
VERSION:2.0
PRODID:-//eventon.com NONSGML v1.0//EN
CALSCALE:GREGORIAN
METHOD:PUBLISH
BEGIN:VEVENT
UID:69e6011ae4ba4
DTSTAMP:20260420T103402Z
DTSTART:20190829T170000Z
DTEND:20190829T215000Z
LOCATION:IF Skjold Sæby Kjeldgaardsvej 25\,  9300 Sæby
SUMMARY:Banko-aften
DESCRIPTION:Bankospillet foregår i Skjolds klubhus alle torsdage frem til 
 omkring 1. maj 2020 og arrangeres af Skjolds Venner Skjolds Venners formål
  er at yde økonomisk støtte til ungdomsarbejdet i IF Skjold Sæby. Kig fo
 rbi til en hyggelig aften. Såfremt DU kunne tænke dig at støtte ungdomsa
 rbejdet i Skjold\,  kan dette[..]\nhttps://9300-saeby.dk/events/banko-aften
 /
URL:https://9300-saeby.dk/events/banko-aften/
END:VEVENT
END:VCALENDAR